BEGIN:VCALENDAR
VERSION:2.0
PRODID:-//Evangelische Allianz Bayreuth - ECPv6.15.20//NONSGML v1.0//EN
CALSCALE:GREGORIAN
METHOD:PUBLISH
X-ORIGINAL-URL:https://www.evangelische-allianz-bayreuth.de
X-WR-CALDESC:Veranstaltungen für Evangelische Allianz Bayreuth
REFRESH-INTERVAL;VALUE=DURATION:PT1H
X-Robots-Tag:noindex
X-PUBLISHED-TTL:PT1H
BEGIN:VTIMEZONE
TZID:Europe/Berlin
BEGIN:DAYLIGHT
TZOFFSETFROM:+0100
TZOFFSETTO:+0200
TZNAME:CEST
DTSTART:20240331T010000
END:DAYLIGHT
BEGIN:STANDARD
TZOFFSETFROM:+0200
TZOFFSETTO:+0100
TZNAME:CET
DTSTART:20241027T010000
END:STANDARD
BEGIN:DAYLIGHT
TZOFFSETFROM:+0100
TZOFFSETTO:+0200
TZNAME:CEST
DTSTART:20250330T010000
END:DAYLIGHT
BEGIN:STANDARD
TZOFFSETFROM:+0200
TZOFFSETTO:+0100
TZNAME:CET
DTSTART:20251026T010000
END:STANDARD
BEGIN:DAYLIGHT
TZOFFSETFROM:+0100
TZOFFSETTO:+0200
TZNAME:CEST
DTSTART:20260329T010000
END:DAYLIGHT
BEGIN:STANDARD
TZOFFSETFROM:+0200
TZOFFSETTO:+0100
TZNAME:CET
DTSTART:20261025T010000
END:STANDARD
BEGIN:DAYLIGHT
TZOFFSETFROM:+0100
TZOFFSETTO:+0200
TZNAME:CEST
DTSTART:20270328T010000
END:DAYLIGHT
BEGIN:STANDARD
TZOFFSETFROM:+0200
TZOFFSETTO:+0100
TZNAME:CET
DTSTART:20271031T010000
END:STANDARD
END:VTIMEZONE
BEGIN:VEVENT
DTSTART;TZID=Europe/Berlin:20260325T080000
DTEND;TZID=Europe/Berlin:20260325T080000
DTSTAMP:20260422T140559
CREATED:20260217T075527Z
LAST-MODIFIED:20260217T075732Z
UID:2079-1774425600-1774425600@www.evangelische-allianz-bayreuth.de
SUMMARY:Wächtergebet
DESCRIPTION:
URL:https://www.evangelische-allianz-bayreuth.de/event/waechtergebet-9
LOCATION:CVJM Bayreuth\, Wittelsbacherring 26
END:VEVENT
BEGIN:VEVENT
DTSTART;TZID=Europe/Berlin:20260225T080000
DTEND;TZID=Europe/Berlin:20260225T080000
DTSTAMP:20260422T140559
CREATED:20260217T075442Z
LAST-MODIFIED:20260217T075649Z
UID:2077-1772006400-1772006400@www.evangelische-allianz-bayreuth.de
SUMMARY:Wächtergebet
DESCRIPTION:
URL:https://www.evangelische-allianz-bayreuth.de/event/waechtergebet
LOCATION:CVJM Bayreuth\, Wittelsbacherring 26
END:VEVENT
BEGIN:VEVENT
DTSTART;TZID=Europe/Berlin:20260117T150000
DTEND;TZID=Europe/Berlin:20260117T163000
DTSTAMP:20260422T140559
CREATED:20251030T071934Z
LAST-MODIFIED:20251030T071934Z
UID:2068-1768662000-1768667400@www.evangelische-allianz-bayreuth.de
SUMMARY:Gebetsspaziergang
DESCRIPTION:Treffpunkt Stadtkirche\nGott ist treu – Wir beten gemeinsam für seine Welt (Psalm 67\,2-3)
URL:https://www.evangelische-allianz-bayreuth.de/event/gebetsspaziergang-2
END:VEVENT
BEGIN:VEVENT
DTSTART;TZID=Europe/Berlin:20260116T193000
DTEND;TZID=Europe/Berlin:20260116T210000
DTSTAMP:20260422T140559
CREATED:20251029T083953Z
LAST-MODIFIED:20251029T084008Z
UID:2064-1768591800-1768597200@www.evangelische-allianz-bayreuth.de
SUMMARY:Jugendabend der Allianz-Gebetswoche
DESCRIPTION:Gott ist treu – So leben wir Gemeinschaft (Johannes 13\,34-35)
URL:https://www.evangelische-allianz-bayreuth.de/event/jugendabend-der-allianz-gebetswoche
LOCATION:Gemeindehaus St. Georgen (St. Georgen 50)
END:VEVENT
BEGIN:VEVENT
DTSTART;TZID=Europe/Berlin:20260115T180000
DTEND;TZID=Europe/Berlin:20260115T193000
DTSTAMP:20260422T140559
CREATED:20251028T084331Z
LAST-MODIFIED:20251028T084908Z
UID:2061-1768500000-1768505400@www.evangelische-allianz-bayreuth.de
SUMMARY:4. Gebetsabend der Allianz-Gebetswoche
DESCRIPTION:Gott ist treu – Auch in schweren Zeiten (Römer 8\,38-39)\nVerkündigung: Carsten Brall
URL:https://www.evangelische-allianz-bayreuth.de/event/4-gebetsabend-der-allianz-gebetswoche-2
LOCATION:Rathaus\, Großer Sitzungssaal\, Luitpoldplatz 13
END:VEVENT
BEGIN:VEVENT
DTSTART;TZID=Europe/Berlin:20260114T193000
DTEND;TZID=Europe/Berlin:20260114T203000
DTSTAMP:20260422T140559
CREATED:20251027T073644Z
LAST-MODIFIED:20251027T074050Z
UID:2057-1768419000-1768422600@www.evangelische-allianz-bayreuth.de
SUMMARY:3. Gebetsabend der Allianz-Gebetswoche
DESCRIPTION:Gott ist treu – ER vergibt uns\, wenn wir fallen (Jesaja 42\,6b-7) \nVerkündigung: Volker Sommerfeldt
URL:https://www.evangelische-allianz-bayreuth.de/event/3-gebetsabend-der-allianz-gebetswoche-2
LOCATION:Kapelle im Klinikum\, Preuschwitzer Straße 101
END:VEVENT
BEGIN:VEVENT
DTSTART;TZID=Europe/Berlin:20260114T150000
DTEND;TZID=Europe/Berlin:20260114T163000
DTSTAMP:20260422T140559
CREATED:20251027T073436Z
LAST-MODIFIED:20251027T073436Z
UID:2055-1768402800-1768408200@www.evangelische-allianz-bayreuth.de
SUMMARY:Gebetsnachmittag der Allianz-Gebetswoche
DESCRIPTION:Gott ist treu – ER vergibt uns\, wenn wir fallen (Jesaja 42\,6b-7) \nVerkündigung: Stefanie Lauterbach
URL:https://www.evangelische-allianz-bayreuth.de/event/gebetsnachmittag-der-allianz-gebetswoche
LOCATION:Stadtmission in der Sophienstraße
END:VEVENT
BEGIN:VEVENT
DTSTART;TZID=Europe/Berlin:20260113T193000
DTEND;TZID=Europe/Berlin:20260113T210000
DTSTAMP:20260422T140559
CREATED:20251025T072939Z
LAST-MODIFIED:20251025T072939Z
UID:2053-1768332600-1768338000@www.evangelische-allianz-bayreuth.de
SUMMARY:2. Gebetsabend der Allianz-Gebetswoche
DESCRIPTION:Gott ist treu – ER fordert uns zur Umkehr (Römer 12\,1-2)\nVerkündigung: Tobias Müller
URL:https://www.evangelische-allianz-bayreuth.de/event/2-gebetsabend-der-allianz-gebetswoche
LOCATION:CVJM Bayreuth\, Wittelsbacherring 26
END:VEVENT
BEGIN:VEVENT
DTSTART;TZID=Europe/Berlin:20260112T180000
DTEND;TZID=Europe/Berlin:20260112T193000
DTSTAMP:20260422T140559
CREATED:20251024T063426Z
LAST-MODIFIED:20251027T073936Z
UID:2051-1768240800-1768246200@www.evangelische-allianz-bayreuth.de
SUMMARY:1. Gebetsabend der Allianz-Gebetswoche
DESCRIPTION:Gott ist treu – ER erfüllt seine Versprechen (Psalm 145\,13)\nVerkündigung: Ulrich Böhm
URL:https://www.evangelische-allianz-bayreuth.de/event/1-gebetsabend-der-allianz-gebetswoche
LOCATION:Markgräfin-Wilhelmine-Gymnasium\, Königsallee 17\, Königsallee 17
END:VEVENT
BEGIN:VEVENT
DTSTART;TZID=Europe/Berlin:20260111T090000
DTEND;TZID=Europe/Berlin:20260111T103000
DTSTAMP:20260422T140559
CREATED:20251023T065935Z
LAST-MODIFIED:20260110T130432Z
UID:2049-1768122000-1768127400@www.evangelische-allianz-bayreuth.de
SUMMARY:Eröffnungsgottesdienst der Allianz-Gebetswoche
DESCRIPTION:Gott ist treu – Fundamt unseres Glaubens (Psalm 119\,89-90) \nVerkündigung: Karsten Weinand
URL:https://www.evangelische-allianz-bayreuth.de/event/eroeffnungsgottesdienst-der-allianz-gebetswoche
LOCATION:St. Johannis
END:VEVENT
BEGIN:VEVENT
DTSTART;TZID=Europe/Berlin:20251126T080000
DTEND;TZID=Europe/Berlin:20251126T090000
DTSTAMP:20260422T140559
CREATED:20251022T073549Z
LAST-MODIFIED:20251022T073549Z
UID:2047-1764144000-1764147600@www.evangelische-allianz-bayreuth.de
SUMMARY:Wächtergebet
DESCRIPTION:
URL:https://www.evangelische-allianz-bayreuth.de/event/waechtergebet-8
LOCATION:CVJM Bayreuth\, Wittelsbacherring 26
END:VEVENT
BEGIN:VEVENT
DTSTART;TZID=Europe/Berlin:20251029T080000
DTEND;TZID=Europe/Berlin:20251029T090000
DTSTAMP:20260422T140559
CREATED:20251014T073037Z
LAST-MODIFIED:20251014T073043Z
UID:2044-1761724800-1761728400@www.evangelische-allianz-bayreuth.de
SUMMARY:Wächtergebet
DESCRIPTION:
URL:https://www.evangelische-allianz-bayreuth.de/event/waechtergebet-7
LOCATION:CVJM Bayreuth\, Wittelsbacherring 26
END:VEVENT
BEGIN:VEVENT
DTSTART;TZID=Europe/Berlin:20251003T143000
DTEND;TZID=Europe/Berlin:20251003T180000
DTSTAMP:20260422T140559
CREATED:20250822T074729Z
LAST-MODIFIED:20250822T074729Z
UID:2040-1759501800-1759514400@www.evangelische-allianz-bayreuth.de
SUMMARY:Christustag
DESCRIPTION:
URL:https://www.evangelische-allianz-bayreuth.de/event/christustag
LOCATION:Kreuzkirche
END:VEVENT
BEGIN:VEVENT
DTSTART;TZID=Europe/Berlin:20250924T080000
DTEND;TZID=Europe/Berlin:20250924T093000
DTSTAMP:20260422T140559
CREATED:20250822T074616Z
LAST-MODIFIED:20250822T074616Z
UID:2038-1758700800-1758706200@www.evangelische-allianz-bayreuth.de
SUMMARY:Wächtergebet
DESCRIPTION:
URL:https://www.evangelische-allianz-bayreuth.de/event/waechtergebet-6
LOCATION:CVJM Bayreuth\, Wittelsbacherring 26
END:VEVENT
BEGIN:VEVENT
DTSTART;TZID=Europe/Berlin:20250730T080000
DTEND;TZID=Europe/Berlin:20250730T090000
DTSTAMP:20260422T140559
CREATED:20250710T061305Z
LAST-MODIFIED:20250710T061305Z
UID:2035-1753862400-1753866000@www.evangelische-allianz-bayreuth.de
SUMMARY:Wächtergebet
DESCRIPTION:
URL:https://www.evangelische-allianz-bayreuth.de/event/waechtergebet-5
LOCATION:CVJM Bayreuth\, Wittelsbacherring 26
END:VEVENT
BEGIN:VEVENT
DTSTART;TZID=Europe/Berlin:20250528T080000
DTEND;TZID=Europe/Berlin:20250528T090000
DTSTAMP:20260422T140559
CREATED:20250407T065019Z
LAST-MODIFIED:20250407T065019Z
UID:2032-1748419200-1748422800@www.evangelische-allianz-bayreuth.de
SUMMARY:Wächtergebet
DESCRIPTION:
URL:https://www.evangelische-allianz-bayreuth.de/event/waechtergebet-12
LOCATION:CVJM Bayreuth\, Wittelsbacherring 26
END:VEVENT
BEGIN:VEVENT
DTSTART;TZID=Europe/Berlin:20250430T080000
DTEND;TZID=Europe/Berlin:20250430T090000
DTSTAMP:20260422T140559
CREATED:20250407T064931Z
LAST-MODIFIED:20250407T064931Z
UID:2030-1746000000-1746003600@www.evangelische-allianz-bayreuth.de
SUMMARY:Wächtergebet
DESCRIPTION:
URL:https://www.evangelische-allianz-bayreuth.de/event/waechtergebet-4
LOCATION:CVJM Bayreuth\, Wittelsbacherring 26
END:VEVENT
END:VCALENDAR